BEGIN:VCALENDAR
VERSION:2.0
PRODID:-//Plone.org//NONSGML plone.app.event//EN
X-WR-TIMEZONE:America/Buenos_Aires
BEGIN:VEVENT
SUMMARY:2º Fórum Internacional sobre Mudanças Climáticas
DTSTART;TZID=America/Buenos_Aires;VALUE=DATE-TIME:20241206T083000
DTEND;TZID=America/Buenos_Aires;VALUE=DATE-TIME:20241206T200000
DTSTAMP;VALUE=DATE-TIME:20260424T084202Z
UID:d8b7748fae714b52848025c4858aa26f@portal.unila.edu.br
CREATED;VALUE=DATE-TIME:20241121T152002Z
DESCRIPTION:Esta edição dá continuidade ao trabalho iniciado no fórum 
 sobre mudanças climáticas realizado em setembro de 2023\, em Puerto Igua
 zú\, Argentina\, com o apoio do Centro de Informação da ONU para Argent
 ina e Uruguai.
LAST-MODIFIED;VALUE=DATE-TIME:20241121T152837Z
LOCATION:UNILA - Jardim Universitário
URL:https://portal.unila.edu.br/eventos/2o-forum-internacional-sobre-mudan
 cas-climaticas
END:VEVENT
BEGIN:VTIMEZONE
TZID:America/Buenos_Aires
X-LIC-LOCATION:America/Buenos_Aires
BEGIN:STANDARD
DTSTART;VALUE=DATE-TIME:20090314T230000
TZNAME:ART
TZOFFSETFROM:-0200
TZOFFSETTO:-0300
END:STANDARD
END:VTIMEZONE
END:VCALENDAR
