BEGIN:VCALENDAR
VERSION:2.0
PRODID:-//Plone.org//NONSGML plone.app.event//EN
X-WR-TIMEZONE:America/Buenos_Aires
BEGIN:VEVENT
SUMMARY:2º Festival de Cinema dos BRICS
DTSTART;TZID=America/Sao_Paulo;VALUE=DATE-TIME:20211210T150000
DTEND;TZID=America/Sao_Paulo;VALUE=DATE-TIME:20211212T200000
DTSTAMP;VALUE=DATE-TIME:20260423T225106Z
UID:42611001fd5b474d98f7eeb46833043c@portal.unila.edu.br
CREATED;VALUE=DATE-TIME:20211207T121805Z
DESCRIPTION:Evento será realizado de 10 a 12 de dezembro\; inscrições p
 rorrogadas até esta quinta-feira (9)
LAST-MODIFIED;VALUE=DATE-TIME:20211209T130435Z
URL:https://portal.unila.edu.br/eventos/2o-festival-de-cinema-dos-brics
END:VEVENT
BEGIN:VTIMEZONE
TZID:America/Sao_Paulo
X-LIC-LOCATION:America/Sao_Paulo
BEGIN:DAYLIGHT
DTSTART;VALUE=DATE-TIME:20211017T010000
TZNAME:BRST
TZOFFSETFROM:-0300
TZOFFSETTO:-0200
END:DAYLIGHT
END:VTIMEZONE
END:VCALENDAR
