BEGIN:VCALENDAR
VERSION:2.0
PRODID:-//Plone.org//NONSGML plone.app.event//EN
X-WR-TIMEZONE:America/Buenos_Aires
BEGIN:VEVENT
SUMMARY:2º Congresso Internacional de Estudos sobre Políticas Educaciona
 is
DTSTART;TZID=America/Buenos_Aires;VALUE=DATE-TIME:20241126T190000
DTSTAMP;VALUE=DATE-TIME:20260424T032331Z
UID:952e8aa65ad049af941e5dcf47b7b9ad@portal.unila.edu.br
CREATED;VALUE=DATE-TIME:20241125T120905Z
DESCRIPTION:De 26 a 28 de novembro\, a UNILA sediará o 2º Congresso Inte
 rnacional de Estudos sobre Políticas Educacionais. As inscrições estão
  abertas.
LAST-MODIFIED;VALUE=DATE-TIME:20241127T180041Z
LOCATION:UNILA - Jardim Universitário
URL:https://portal.unila.edu.br/eventos/2o-congresso-internacional-de-estu
 dos-sobre-politicas-educacionais
END:VEVENT
BEGIN:VTIMEZONE
TZID:America/Buenos_Aires
X-LIC-LOCATION:America/Buenos_Aires
BEGIN:STANDARD
DTSTART;VALUE=DATE-TIME:20090314T230000
TZNAME:ART
TZOFFSETFROM:-0200
TZOFFSETTO:-0300
END:STANDARD
END:VTIMEZONE
END:VCALENDAR
