BEGIN:VCALENDAR
VERSION:2.0
PRODID:-//Plone.org//NONSGML plone.app.event//EN
X-WR-TIMEZONE:America/Buenos_Aires
BEGIN:VEVENT
SUMMARY:2º Ciclo de Palestras da EDUNILA
DTSTART;TZID=America/Sao_Paulo;VALUE=DATE-TIME:20190506T190000
DTEND;TZID=America/Sao_Paulo;VALUE=DATE-TIME:20190507T203000
DTSTAMP;VALUE=DATE-TIME:20260423T225036Z
UID:a387316748df4c01a0d0de311f9024d8@portal.unila.edu.br
CREATED;VALUE=DATE-TIME:20190506T181241Z
DESCRIPTION:Ciclo de Palestras promovido pela Editora da UNILA conta com a
  presença de palestrantes internacionais
LAST-MODIFIED;VALUE=DATE-TIME:20190507T192551Z
LOCATION:Sala C203 - UNILA - Jardim Universitário - Av. Tarquínio Joslin
  dos Santos\, 1000
URL:https://portal.unila.edu.br/eventos/2o-ciclo-de-palestras-da-edunila
END:VEVENT
BEGIN:VTIMEZONE
TZID:America/Sao_Paulo
X-LIC-LOCATION:America/Sao_Paulo
BEGIN:STANDARD
DTSTART;VALUE=DATE-TIME:20190216T230000
TZNAME:BRT
TZOFFSETFROM:-0200
TZOFFSETTO:-0300
END:STANDARD
END:VTIMEZONE
END:VCALENDAR
