BEGIN:VCALENDAR
VERSION:2.0
PRODID:-//Plone.org//NONSGML plone.app.event//EN
X-WR-TIMEZONE:America/Buenos_Aires
BEGIN:VEVENT
SUMMARY:21º Encontro Internacional Humboldt – A "volta" do Imperialismo
DTSTART;TZID=America/Sao_Paulo;VALUE=DATE-TIME:20190916T130000
DTEND;TZID=America/Sao_Paulo;VALUE=DATE-TIME:20190920T190000
DTSTAMP;VALUE=DATE-TIME:20260425T092458Z
UID:bbb5bac0e3944db8985f1a7715c15139@portal.unila.edu.br
CATEGORIES:geografia
CREATED;VALUE=DATE-TIME:20190910T145435Z
DESCRIPTION:Foz do Iguaçu será sede da 21ª edição do Encontro Interna
 cional Humboldt
LAST-MODIFIED;VALUE=DATE-TIME:20190910T150250Z
LOCATION:Hotel Foz do Iguaçu (Avenida Brasil\, 97 - Foz do Iguaçu)
URL:https://portal.unila.edu.br/eventos/21o-encontro-internacional-humbold
 t-a-volta-do-imperialismo
END:VEVENT
BEGIN:VTIMEZONE
TZID:America/Sao_Paulo
X-LIC-LOCATION:America/Sao_Paulo
BEGIN:STANDARD
DTSTART;VALUE=DATE-TIME:20190216T230000
TZNAME:BRT
TZOFFSETFROM:-0200
TZOFFSETTO:-0300
END:STANDARD
END:VTIMEZONE
END:VCALENDAR
