BEGIN:VCALENDAR
VERSION:2.0
PRODID:-//Plone.org//NONSGML plone.app.event//EN
X-WR-TIMEZONE:America/Buenos_Aires
BEGIN:VEVENT
SUMMARY:“Práticas Pedagógicas na Educação Inclusiva”
DTSTART;TZID=America/Buenos_Aires;VALUE=DATE-TIME:20251025T140000
DTSTAMP;VALUE=DATE-TIME:20260423T225225Z
UID:1dabba8752b641f8bded2065d1147dcc@portal.unila.edu.br
CREATED;VALUE=DATE-TIME:20251021T113415Z
DESCRIPTION:Formação em Educação Inclusiva será realizada no dia 25 d
 e outubro\, às 14h\, no Jardim Universitário\, com inscrições até 24 
 de outubro pelo SIGEventos.
LAST-MODIFIED;VALUE=DATE-TIME:20251021T113511Z
LOCATION:UNILA - Jardim Universitário
URL:https://portal.unila.edu.br/eventos/201cpraticas-pedagogicas-na-educac
 ao-inclusiva201d
END:VEVENT
BEGIN:VTIMEZONE
TZID:America/Buenos_Aires
X-LIC-LOCATION:America/Buenos_Aires
BEGIN:STANDARD
DTSTART;VALUE=DATE-TIME:20090314T230000
TZNAME:ART
TZOFFSETFROM:-0200
TZOFFSETTO:-0300
END:STANDARD
END:VTIMEZONE
END:VCALENDAR
