BEGIN:VCALENDAR
VERSION:2.0
PRODID:-//Plone.org//NONSGML plone.app.event//EN
X-WR-TIMEZONE:America/Buenos_Aires
BEGIN:VEVENT
SUMMARY:“Os 30 anos da Constituição Federal do Brasil e o Novo Constit
 ucionalismo Latino-Americano”
DTSTART;VALUE=DATE:20181126
DTEND;VALUE=DATE:20181128
DTSTAMP;VALUE=DATE-TIME:20260424T032638Z
UID:d4f4e47acc124a868ccfce03b248285c@tibagi.unila
ATTENDEE;CN="Inscrições via Sistema Inscreva";ROLE=REQ-PARTICIPANT:Inscr
 ições via Sistema Inscreva
CATEGORIES:Seminário
CREATED;VALUE=DATE-TIME:20181101T180820Z
LAST-MODIFIED;VALUE=DATE-TIME:20190112T022529Z
LOCATION:UNILA PTI - Av. Tancredo Neves
URL:https://portal.unila.edu.br/eventos/201cos-30-anos-da-constituicao-fed
 eral-do-brasil-e-o-novo-constitucionalismo-latino-americano201d
END:VEVENT
END:VCALENDAR
