BEGIN:VCALENDAR
VERSION:2.0
PRODID:-//Plone.org//NONSGML plone.app.event//EN
X-WR-TIMEZONE:America/Buenos_Aires
BEGIN:VEVENT
SUMMARY:“Inteligência Artificial na Educação”
DTSTART;VALUE=DATE:20250926
DTEND;VALUE=DATE:20250928
DTSTAMP;VALUE=DATE-TIME:20260423T210020Z
UID:b51ffef756474c859e5cf3e50727b638@portal.unila.edu.br
CREATED;VALUE=DATE-TIME:20250918T122732Z
DESCRIPTION:UNILA é uma das apoiadoras do evento “Inteligência Artific
 ial na Educação”\, que ocorre nos dias 26 e 27 de setembro\, em Foz do
  Iguaçu. As inscrições estão abertas.
LAST-MODIFIED;VALUE=DATE-TIME:20250918T122838Z
LOCATION:ITAIPU Parquetec
URL:https://portal.unila.edu.br/eventos/201cinteligencia-artificial-na-edu
 cacao201d
END:VEVENT
END:VCALENDAR
