BEGIN:VCALENDAR
VERSION:2.0
PRODID:-//Plone.org//NONSGML plone.app.event//EN
X-WR-TIMEZONE:America/Buenos_Aires
BEGIN:VEVENT
SUMMARY:1º Ciclo de Vivências Formativas: tecnologias na educação supe
 rior
DTSTART;TZID=America/Sao_Paulo;VALUE=DATE-TIME:20200819T160000
DTEND;TZID=America/Sao_Paulo;VALUE=DATE-TIME:20200921T180000
DTSTAMP;VALUE=DATE-TIME:20260423T134252Z
UID:5af517f8da09482db3b4ffa24d80d791@portal.unila.edu.br
CREATED;VALUE=DATE-TIME:20200813T162619Z
DESCRIPTION:Lives e cursos integram a programação do evento\, que será 
 realizado de 19 de agosto a 21 de setembro
LAST-MODIFIED;VALUE=DATE-TIME:20200820T172738Z
URL:https://portal.unila.edu.br/eventos/1o-ciclo-de-vivencias-formativas-t
 ecnologias-na-educacao-superior
END:VEVENT
BEGIN:VTIMEZONE
TZID:America/Sao_Paulo
X-LIC-LOCATION:America/Sao_Paulo
BEGIN:STANDARD
DTSTART;VALUE=DATE-TIME:20200215T230000
TZNAME:BRT
TZOFFSETFROM:-0200
TZOFFSETTO:-0300
END:STANDARD
END:VTIMEZONE
END:VCALENDAR
