BEGIN:VCALENDAR
VERSION:2.0
PRODID:-//Plone.org//NONSGML plone.app.event//EN
X-WR-TIMEZONE:America/Buenos_Aires
BEGIN:VEVENT
SUMMARY:Primeira defesa de dissertação do mestrado em Engenharia Civil
DTSTART;TZID=America/Sao_Paulo;VALUE=DATE-TIME:20190520T140000
DTEND;TZID=America/Sao_Paulo;VALUE=DATE-TIME:20190520T150000
DTSTAMP;VALUE=DATE-TIME:20260423T225132Z
UID:a746bcbceb204d12bb319fbcb3a1bda0@portal.unila.edu.br
CREATED;VALUE=DATE-TIME:20190508T145949Z
DESCRIPTION:"Estudo para a ampliação do uso da madeira para a construç
 ão de habitações no Brasil" é o tema da dissertação em Engenharia Ci
 vil
LAST-MODIFIED;VALUE=DATE-TIME:20190514T183211Z
LOCATION:Bloco 08\, Espaço 03\, Sala 03- Campus UNILA PTI
URL:https://portal.unila.edu.br/eventos/1deg-banca-de-defesa-de-dissertaca
 o-ppg-eci
END:VEVENT
BEGIN:VTIMEZONE
TZID:America/Sao_Paulo
X-LIC-LOCATION:America/Sao_Paulo
BEGIN:STANDARD
DTSTART;VALUE=DATE-TIME:20190216T230000
TZNAME:BRT
TZOFFSETFROM:-0200
TZOFFSETTO:-0300
END:STANDARD
END:VTIMEZONE
END:VCALENDAR
