BEGIN:VCALENDAR
VERSION:2.0
PRODID:-//Plone.org//NONSGML plone.app.event//EN
X-WR-TIMEZONE:America/Buenos_Aires
BEGIN:VEVENT
SUMMARY:1ª Semana Acadêmica Integrada das Licenciaturas do ILACVN
DTSTART;TZID=America/Buenos_Aires;VALUE=DATE-TIME:20250930T190000
DTEND;TZID=America/Buenos_Aires;VALUE=DATE-TIME:20251003T220000
DTSTAMP;VALUE=DATE-TIME:20260423T202424Z
UID:f70c730f324b42759b30f9f4d0764cb5@portal.unila.edu.br
CREATED;VALUE=DATE-TIME:20250924T110634Z
DESCRIPTION:O evento será realizado de 30 de setembro a 3 de outubro\, co
 m participação voltada a estudantes e professores de Ciências da Nature
 za\, Matemática e Química.
LAST-MODIFIED;VALUE=DATE-TIME:20250924T110727Z
LOCATION:UNILA - Jd. Universitário
URL:https://portal.unila.edu.br/eventos/1a-semana-academica-integrada-das-
 licenciaturas-do-ilacvn
END:VEVENT
BEGIN:VTIMEZONE
TZID:America/Buenos_Aires
X-LIC-LOCATION:America/Buenos_Aires
BEGIN:STANDARD
DTSTART;VALUE=DATE-TIME:20090314T230000
TZNAME:ART
TZOFFSETFROM:-0200
TZOFFSETTO:-0300
END:STANDARD
END:VTIMEZONE
END:VCALENDAR
