BEGIN:VCALENDAR
VERSION:2.0
PRODID:-//Plone.org//NONSGML plone.app.event//EN
X-WR-TIMEZONE:America/Buenos_Aires
BEGIN:VEVENT
SUMMARY:1ª Conferência Municipal LGBTQIA+ de Foz do Iguaçu
DTSTART;TZID=America/Buenos_Aires;VALUE=DATE-TIME:20241207T090000
DTEND;TZID=America/Buenos_Aires;VALUE=DATE-TIME:20241207T180000
DTSTAMP;VALUE=DATE-TIME:20260424T041329Z
UID:5fe920664d9642d89b8bcf5f8c6c7cd1@portal.unila.edu.br
CREATED;VALUE=DATE-TIME:20241126T204618Z
DESCRIPTION:O evento será presencial e contará com debates e a apresenta
 ção das propostas elaboradas nas pré-conferências realizadas anteriorm
 ente.
LAST-MODIFIED;VALUE=DATE-TIME:20241126T204739Z
LOCATION:UNILA - Campus Integração (Avenida Tancredo Neves\, 3147 - Port
 o Belo)
URL:https://portal.unila.edu.br/eventos/1a-conferencia-municipal-lgbtqia-d
 e-foz-do-iguacu
END:VEVENT
BEGIN:VTIMEZONE
TZID:America/Buenos_Aires
X-LIC-LOCATION:America/Buenos_Aires
BEGIN:STANDARD
DTSTART;VALUE=DATE-TIME:20090314T230000
TZNAME:ART
TZOFFSETFROM:-0200
TZOFFSETTO:-0300
END:STANDARD
END:VTIMEZONE
END:VCALENDAR
