BEGIN:VCALENDAR
VERSION:2.0
PRODID:-//Plone.org//NONSGML plone.app.event//EN
X-WR-TIMEZONE:America/Buenos_Aires
BEGIN:VEVENT
SUMMARY:1ª Conferência Internacional Relações América Latina – Ási
 a
DTSTART;TZID=America/Sao_Paulo;VALUE=DATE-TIME:20200615T080000
DTEND;TZID=America/Sao_Paulo;VALUE=DATE-TIME:20200615T230000
DTSTAMP;VALUE=DATE-TIME:20260423T111916Z
UID:73cfdabc20c34c039885bd5254a02867@portal.unila.edu.br
CREATED;VALUE=DATE-TIME:20200528T122946Z
DESCRIPTION:O prazo para envio de trabalhos é até 15 de junho\; conferê
 ncia será nos dias 1º e 2 de outubro
LAST-MODIFIED;VALUE=DATE-TIME:20200529T164719Z
URL:https://portal.unila.edu.br/eventos/1a-conferencia-internacional-relac
 oes-america-latina-2013asia
END:VEVENT
BEGIN:VTIMEZONE
TZID:America/Sao_Paulo
X-LIC-LOCATION:America/Sao_Paulo
BEGIN:STANDARD
DTSTART;VALUE=DATE-TIME:20200215T230000
TZNAME:BRT
TZOFFSETFROM:-0200
TZOFFSETTO:-0300
END:STANDARD
END:VTIMEZONE
END:VCALENDAR
