BEGIN:VCALENDAR
VERSION:2.0
PRODID:-//Plone.org//NONSGML plone.app.event//EN
X-WR-TIMEZONE:America/Buenos_Aires
BEGIN:VEVENT
SUMMARY:13º Simpósio Brasileiro de Engenharia Física
DTSTART;VALUE=DATE:20181020
DTEND;VALUE=DATE:20181027
DTSTAMP;VALUE=DATE-TIME:20260423T225512Z
UID:3d1edef3d9e344778e098c9ba5038c1b@tibagi.unila
CONTACT:http://alkenintegracao.com/sbef2018/
CREATED;VALUE=DATE-TIME:20181003T185250Z
DESCRIPTION:Palestras e mesas-redondas apresentadas por Engenheiros Físic
 os e visitas técnicas na Itaipu Binacional
LAST-MODIFIED;VALUE=DATE-TIME:20190112T022528Z
LOCATION:Parque Tecnológico Itaipu
URL:https://portal.unila.edu.br/eventos/13o-simposio-brasileiro-de-engenha
 ria-fisica
END:VEVENT
END:VCALENDAR
