BEGIN:VCALENDAR
VERSION:2.0
PRODID:-//Plone.org//NONSGML plone.app.event//EN
X-WR-TIMEZONE:America/Buenos_Aires
BEGIN:VEVENT
SUMMARY:11ª Reunião Extraordinária do COGRAD/ANDIFES
DTSTART;TZID=America/Buenos_Aires;VALUE=DATE-TIME:20250402T090000
DTSTAMP;VALUE=DATE-TIME:20260423T225914Z
UID:ac26c08b5e2d4a0da834ac52b035f8f8@portal.unila.edu.br
CREATED;VALUE=DATE-TIME:20250311T142656Z
DESCRIPTION:De 2 a 4 de abril\, a UNILA sediará a 11ª Reunião Extraordi
 nária do Colégio de Pró-Reitores de Graduação das Instituições Fede
 rais de Ensino Superior.
LAST-MODIFIED;VALUE=DATE-TIME:20250401T111313Z
LOCATION:UNILA - Jardim Universitário
URL:https://portal.unila.edu.br/eventos/11a-reuniao-extraordinaria-do-cogr
 ad-andifes
END:VEVENT
BEGIN:VTIMEZONE
TZID:America/Buenos_Aires
X-LIC-LOCATION:America/Buenos_Aires
BEGIN:STANDARD
DTSTART;VALUE=DATE-TIME:20090314T230000
TZNAME:ART
TZOFFSETFROM:-0200
TZOFFSETTO:-0300
END:STANDARD
END:VTIMEZONE
END:VCALENDAR
