BEGIN:VCALENDAR
VERSION:2.0
PRODID:-//Plone.org//NONSGML plone.app.event//EN
X-WR-TIMEZONE:America/Buenos_Aires
BEGIN:VEVENT
SUMMARY:10ª Semana da Consciência Negra
DTSTART;TZID=America/Sao_Paulo;VALUE=DATE-TIME:20201120T181500
DTEND;TZID=America/Sao_Paulo;VALUE=DATE-TIME:20201127T181500
DTSTAMP;VALUE=DATE-TIME:20260425T082851Z
UID:72a0c4fc0ed149bc81ebf1f18b363355@portal.unila.edu.br
CREATED;VALUE=DATE-TIME:20201117T180130Z
DESCRIPTION:Atividades serão entre os dias 20 e 27 de novembro
LAST-MODIFIED;VALUE=DATE-TIME:20201117T185056Z
URL:https://portal.unila.edu.br/eventos/10a-semana-da-consciencia-negra
END:VEVENT
BEGIN:VTIMEZONE
TZID:America/Sao_Paulo
X-LIC-LOCATION:America/Sao_Paulo
BEGIN:DAYLIGHT
DTSTART;VALUE=DATE-TIME:20201018T010000
TZNAME:BRST
TZOFFSETFROM:-0300
TZOFFSETTO:-0200
END:DAYLIGHT
END:VTIMEZONE
END:VCALENDAR
